BEGIN:VCALENDAR
CALSCALE:GREGORIAN
X-WR-TIMEZONE;VALUE=TEXT:Pacific Standard Time
METHOD:PUBLISH
PRODID:-//Flo Inc.//FloSoft//EN
BEGIN:VEVENT
DTSTART;TZID=Pacific Standard Time:20260428T230000Z
DTSTAMP:20260428T230000Z
DTEND;TZID=Pacific Standard Time:20260429T003000Z
SUMMARY;ENCODING=QUOTED-PRINTABLE:Reconceptualizing Angkor: Compassion, Infrastructure, and Statecraft
DESCRIPTION;ENCODING=QUOTED-PRINTABLE:Fowler Talk with Piphal Heng (Yale University)
LOCATION;ENCODING=QUOTED-PRINTABLE:Deutsche Room, Fowler Museum at UCLA
UID:1759220260428T230000ZReconceptualizing Angkor: Compassion, Infrastructure, and Statecraft
PRIORITY:3
BEGIN:VALARM
TRIGGER;VALUE=DURATION:-P1D
ACTION:DISPLAY
DESCRIPTION:Event reminder
END:VALARM
END:VEVENT
END:VCALENDAR
